BEGIN:VCALENDAR
VERSION:2.0
PRODID:-//Angels Guiding Me - ECPv6.15.20//NONSGML v1.0//EN
CALSCALE:GREGORIAN
METHOD:PUBLISH
X-ORIGINAL-URL:https://angelsguidingme.com
X-WR-CALDESC:Events for Angels Guiding Me
REFRESH-INTERVAL;VALUE=DURATION:PT1H
X-Robots-Tag:noindex
X-PUBLISHED-TTL:PT1H
BEGIN:VTIMEZONE
TZID:America/New_York
BEGIN:DAYLIGHT
TZOFFSETFROM:-0500
TZOFFSETTO:-0400
TZNAME:EDT
DTSTART:20230312T070000
END:DAYLIGHT
BEGIN:STANDARD
TZOFFSETFROM:-0400
TZOFFSETTO:-0500
TZNAME:EST
DTSTART:20231105T060000
END:STANDARD
BEGIN:DAYLIGHT
TZOFFSETFROM:-0500
TZOFFSETTO:-0400
TZNAME:EDT
DTSTART:20240310T070000
END:DAYLIGHT
BEGIN:STANDARD
TZOFFSETFROM:-0400
TZOFFSETTO:-0500
TZNAME:EST
DTSTART:20241103T060000
END:STANDARD
BEGIN:DAYLIGHT
TZOFFSETFROM:-0500
TZOFFSETTO:-0400
TZNAME:EDT
DTSTART:20250309T070000
END:DAYLIGHT
BEGIN:STANDARD
TZOFFSETFROM:-0400
TZOFFSETTO:-0500
TZNAME:EST
DTSTART:20251102T060000
END:STANDARD
END:VTIMEZONE
BEGIN:VEVENT
DTSTART;TZID=America/New_York:20240318T140000
DTEND;TZID=America/New_York:20240319T200000
DTSTAMP:20260425T220121
CREATED:20240312T230456Z
LAST-MODIFIED:20240312T232328Z
UID:1577-1710770400-1710878400@angelsguidingme.com
SUMMARY:How to Live as a Free Soul in Today’s World
DESCRIPTION:There is no limit to your freedom. Your words and thoughts are more powerful than you perhaps realize. You are what you think\, not what you think you are . As you think you create. Your troubles come because you don’t realize that you are the creator.\nREGISTER HERE To receive the Zoom Link. \n\nCreate the life you need and want for yourself!\nFind keys to experiencing greater happiness\, relaxation and purpose.\nReclaim your inner joy and unlimited potential.\nSee how you can have more consistent success and fulfillment.\nExperience uplifting energy techniques to help you know what it means to feel whole within yourself.\nWe will share tools and the steps you can take for living the life you were meant to live
URL:https://angelsguidingme.com/event/how-to-live-as-a-free-soul-in-todays-world/
LOCATION:On Line using Zoom
CATEGORIES:Angels,Love,Psychic,Spiritual
ATTACH;FMTTYPE=image/png:https://angelsguidingme.com/wp-content/uploads/2024/03/Freedom-Meetup-.png
END:VEVENT
END:VCALENDAR