BEGIN:VCALENDAR
VERSION:2.0
PRODID:-//Angels Guiding Me - ECPv6.15.20//NONSGML v1.0//EN
CALSCALE:GREGORIAN
METHOD:PUBLISH
X-WR-CALNAME:Angels Guiding Me
X-ORIGINAL-URL:https://angelsguidingme.com
X-WR-CALDESC:Events for Angels Guiding Me
REFRESH-INTERVAL;VALUE=DURATION:PT1H
X-Robots-Tag:noindex
X-PUBLISHED-TTL:PT1H
BEGIN:VTIMEZONE
TZID:America/New_York
BEGIN:DAYLIGHT
TZOFFSETFROM:-0500
TZOFFSETTO:-0400
TZNAME:EDT
DTSTART:20250309T070000
END:DAYLIGHT
BEGIN:STANDARD
TZOFFSETFROM:-0400
TZOFFSETTO:-0500
TZNAME:EST
DTSTART:20251102T060000
END:STANDARD
BEGIN:DAYLIGHT
TZOFFSETFROM:-0500
TZOFFSETTO:-0400
TZNAME:EDT
DTSTART:20260308T070000
END:DAYLIGHT
BEGIN:STANDARD
TZOFFSETFROM:-0400
TZOFFSETTO:-0500
TZNAME:EST
DTSTART:20261101T060000
END:STANDARD
BEGIN:DAYLIGHT
TZOFFSETFROM:-0500
TZOFFSETTO:-0400
TZNAME:EDT
DTSTART:20270314T070000
END:DAYLIGHT
BEGIN:STANDARD
TZOFFSETFROM:-0400
TZOFFSETTO:-0500
TZNAME:EST
DTSTART:20271107T060000
END:STANDARD
END:VTIMEZONE
BEGIN:VEVENT
DTSTART;TZID=America/New_York:20260419T160000
DTEND;TZID=America/New_York:20260422T200000
DTSTAMP:20260425T200434
CREATED:20260409T190300Z
LAST-MODIFIED:20260409T190300Z
UID:2013-1776614400-1776888000@angelsguidingme.com
SUMMARY:Shine The Light That You Are
DESCRIPTION:“The more light you allow within you the brighter the world you live in will be.” –\nShakti Gawain.\nRegister at:  spiritsriver.com  and receive the Zoom Link to attend for this class \nYour life is your unique spiritual venture\, designed to unlock your innate beingness\, your\ninner power and your connection to higher consciousness. You are here to express your\nwisdom from many lifetimes and to expand your consciousness without ego or suffering. \nYour soul’s evolution is up to you\, but you can access help\, both seen and unseen\, to\nmaster your energy! This class will clarify the game of life and show you the essence of living in two worlds. \nJoin with kindred spirits to explore and manifest the abundance of life infused with high\nenergy\, wisdom and purpose.\nHere is the focus of this free session: \n\nLearn how proven practical spiritual methods will open the doors to your inner power\,\nyour intuition\, and unique life purpose.\nFind how you can transcend any doubt\, judgment\, or fear and gain Inner mastery.\nExplore how you can navigate new waters spiritually and meet life’s challenges with\ngrace and inner security.\nExperience the inner harmony and self-respect that balancing your spiritual and material\nlife brings.
URL:https://angelsguidingme.com/event/shine-the-light-that-you-are/
LOCATION:On Line using Zoom
ATTACH;FMTTYPE=image/png:https://angelsguidingme.com/wp-content/uploads/2026/04/Shine-Light-Mailchimp-.png
END:VEVENT
END:VCALENDAR